BEGIN:VCALENDAR
VERSION:2.0
PRODID:-//Barry Litt, MFT - ECPv6.15.20//NONSGML v1.0//EN
CALSCALE:GREGORIAN
METHOD:PUBLISH
X-WR-CALNAME:Barry Litt, MFT
X-ORIGINAL-URL:https://barrylittmft.com
X-WR-CALDESC:Events for Barry Litt, MFT
REFRESH-INTERVAL;VALUE=DURATION:PT1H
X-Robots-Tag:noindex
X-PUBLISHED-TTL:PT1H
BEGIN:VTIMEZONE
TZID:America/New_York
BEGIN:DAYLIGHT
TZOFFSETFROM:-0500
TZOFFSETTO:-0400
TZNAME:EDT
DTSTART:20090308T070000
END:DAYLIGHT
BEGIN:STANDARD
TZOFFSETFROM:-0400
TZOFFSETTO:-0500
TZNAME:EST
DTSTART:20091101T060000
END:STANDARD
BEGIN:DAYLIGHT
TZOFFSETFROM:-0500
TZOFFSETTO:-0400
TZNAME:EDT
DTSTART:20100314T070000
END:DAYLIGHT
BEGIN:STANDARD
TZOFFSETFROM:-0400
TZOFFSETTO:-0500
TZNAME:EST
DTSTART:20101107T060000
END:STANDARD
BEGIN:DAYLIGHT
TZOFFSETFROM:-0500
TZOFFSETTO:-0400
TZNAME:EDT
DTSTART:20110313T070000
END:DAYLIGHT
BEGIN:STANDARD
TZOFFSETFROM:-0400
TZOFFSETTO:-0500
TZNAME:EST
DTSTART:20111106T060000
END:STANDARD
END:VTIMEZONE
BEGIN:VEVENT
DTSTART;VALUE=DATE:20100417
DTEND;VALUE=DATE:20100418
DTSTAMP:20260424T113828
CREATED:20210403T231332Z
LAST-MODIFIED:20210405T032719Z
UID:714-1271462400-1271548799@barrylittmft.com
SUMMARY:EMDR in Couples Therapy
DESCRIPTION:
URL:https://barrylittmft.com/event/emdr-in-couples-therapy/
LOCATION:Western\, MA
END:VEVENT
END:VCALENDAR